BEGIN:VCALENDAR
VERSION:2.0
PRODID:-//806qm - ECPv5.16.4//NONSGML v1.0//EN
CALSCALE:GREGORIAN
METHOD:PUBLISH
X-WR-CALNAME:806qm
X-ORIGINAL-URL:https://806qm.de
X-WR-CALDESC:Veranstaltungen für 806qm
BEGIN:VTIMEZONE
TZID:Europe/Berlin
BEGIN:DAYLIGHT
TZOFFSETFROM:+0100
TZOFFSETTO:+0200
TZNAME:CEST
DTSTART:20210328T010000
END:DAYLIGHT
BEGIN:STANDARD
TZOFFSETFROM:+0200
TZOFFSETTO:+0100
TZNAME:CET
DTSTART:20211031T010000
END:STANDARD
END:VTIMEZONE
BEGIN:VEVENT
DTSTART;TZID=Europe/Berlin:20210805T170000
DTEND;TZID=Europe/Berlin:20210805T220000
DTSTAMP:20260420T040007
CREATED:20210519T085613Z
LAST-MODIFIED:20210519T085646Z
UID:1587-1628182800-1628200800@806qm.de
SUMMARY:Nura
DESCRIPTION:Special Guest: Majan \nTrotz ihrer zum Bestseller avancierten Autobiografie „Weißt du was ich meine“ und diversen Rollen in TV-Serien gehört Nuras Herz immer noch dem Deutschrap. Stillstand ist für die energetische Rapperin ein Fremdwort\, sie zieht ihr eigenes Ding durch und bleibt dabei immer real! Und ihre Geschichte ist noch lange nicht zu Ende erzählt: Jenseits von hypermaskulinen Narrativen und der verkrampften Darstellung des eigenen Luxus begegnet Nura der Rap-Welt mit Stil und zieht damit nonchalant an der Konkurrenz vorbei. Durch ihr Aufwachsen als queere\, schwarze Geflüchtete agiert sie dabei immer wieder als Rolemodel und leistet einen empowernden Beitrag für mehr Mut zu Selbstfindung und -liebe. Ausdruck findet ihre Message dabei mit gewohnter Härte und klugem Witz – im August dann auch auf dem Endlich Open-Air. \nIm Vorprogramm noch so eine außergewöhnliche Erfolgsgeschichte: MAJAN tritt im März 2019 auf der Hit-Single 1975 mit Rap-Ikone Cro erstmals in Erscheinung. Es folgt ein Majordeal\, Tour-Support für Max Herre\, ein Auftritt beim splash! Festival und schließlich zwei EPs (oder eine in zwei Akten). Der Sound von MAJAN ist immer unangestrengt und anders\, kennt weder Zwang noch Kalkül. Denn er ist nicht nur Rapper oder Sänger\, sondern vor allem Autodidakt und kreativer Geschichtenerzähler\, der in mitreißenden Stories in seinen Alltag und seine Heimat entführt. Er erzählt von der Tuckk-r-up Gang\, seiner Familie\, einer Taxifahrt oder der letzten Feier – hauptsache das Gefühl ist echt. Und dabei kennt seine musikalische Sozialisation keine Grenzen! \nNura mit Special Guest MAJAN\n05. August 2021\, Einlass & Beginn tbc\nEndlich Open-Air\, Messplatz Darmstadt\nTickets ab 33\,48€
URL:https://806qm.de/v/nura/
LOCATION:Endlich Open Air
CATEGORIES:Konzert
ATTACH;FMTTYPE=image/png:https://806qm.de/wp-content/uploads/2021/05/210426_EndlichOpenAir_Instagram-NURA_Post.png
END:VEVENT
END:VCALENDAR